BEGIN:VCALENDAR
VERSION:2.0
PRODID:Events Booking
BEGIN:VEVENT
UID:69e633694c34c
SUMMARY:2023 Aurora Women's Spiel
DESCRIPTION:[Short Description:This section does not currently show on club
  website as configured]
DTSTART:20231202T000000Z
DTEND:20231203T200000Z
DTSTAMP:20260420T090841Z
ORGANIZER;CN=Frogtown Curling Club:MAILTO:do-not-reply@frogtowncurling.org
END:VEVENT
END:VCALENDAR