BEGIN:VCALENDAR
VERSION:2.0
PRODID:Events Booking
BEGIN:VEVENT
UID:69e8eb3a2cbda
SUMMARY:2026 Ice Out Spiel Team
DESCRIPTION:Pack your Bonspiel gear and join us for Frogaroo\, the Frogtown
  Curling Club’s Ice Out Bonspiel inspired by the colorful\, music-festiv
 al energy of Bonnaroo. 
 Teams are guaranteed 3\, 6 end games of great cu
 rling alongside a weekend full of food\, drinks\, music\, and merriment. E
 xpect a high-energy atmosphere\, creative awards\, and plenty of chances t
 o celebrate the season in true Frogtown style. Come for the curling—stay
  for the party.
 Please note you will be asked for available Friday Draw 
 Time of&nbsp\;12:00 pm\, 1:45 pm\, 3:30 pm\, or 6:15 pm
LOCATION:743 Western Ave N Saint Paul\, MN 55103
DTSTART:20260410T050000Z
DTEND:20260412T050000Z
DTSTAMP:20260215T201539Z
ORGANIZER;CN=Frogtown Curling Club:MAILTO:do-not-reply@frogtowncurling.org
GEO:44.963643;-93.118987
X-APPLE-STRUCTURED-LOCATION;VALUE=URI;X-ADDRESS=743 Western Ave N Saint Pau
 l\, MN 55103;X-APPLE-RADIUS=72;X-TITLE=Frogtown Curling Club:44.963643;-93
 .118987
END:VEVENT
END:VCALENDAR