BEGIN:VCALENDAR
VERSION:2.0
PRODID:Events Booking
BEGIN:VEVENT
UID:69ebabbdda80b
SUMMARY:Five and Under Skills Development Clinic
DESCRIPTION:Clinic Description:
 Sharpen your skills ahead of the Five and
  Under season with&nbsp\;National Team member and coach Connor Kauffman.&n
 bsp\;Tailored to the 5U game\, this clinic&nbsp\;begins with&nbsp\;a 2-hou
 r on-ice session&nbsp\;on improving delivery&nbsp\;mechanics\, sweeping fo
 rm\, and building a foundation for choreography to make shots at an elevat
 ed level.&nbsp\;Transitioning to an&nbsp\;off-ice session\, it will also&n
 bsp\;cover&nbsp\;strategy\, team systems\, and day planning while at an ev
 ent.
 Please&nbsp\;Note:&nbsp\;This is not a learn-to-curl class\, partic
 ipants should have a minimum of one year club curling or equivalent experi
 ence\, and should be curlers eligible for USA Curling 5 and Under (meeting
  requirements such as being 21 years of age or older this season). If you 
 have any questions about this\, reach out to Rebecca at&nbsp\;rebeccapeich
 el@gmail.com
LOCATION:743 Western Ave N Saint Paul\, MN 55103
DTSTART:20251018T150000Z
DTEND:20251018T180000Z
DTSTAMP:20250221T095730Z
ORGANIZER;CN=Frogtown Curling Club:MAILTO:do-not-reply@frogtowncurling.org
GEO:44.963643;-93.118987
X-APPLE-STRUCTURED-LOCATION;VALUE=URI;X-ADDRESS=743 Western Ave N Saint Pau
 l\, MN 55103;X-APPLE-RADIUS=72;X-TITLE=Frogtown Curling Club:44.963643;-93
 .118987
END:VEVENT
END:VCALENDAR