BEGIN:VCALENDAR
VERSION:2.0
PRODID:Events Booking
BEGIN:VEVENT
UID:69e6347a8dda8
SUMMARY:Rookie League (March 2026)
DESCRIPTION:Is curling on your bucket list? Or\, have you ever watched Olym
 pic curling on TV with a mix of befuddlement and intrigue\, and think\, 
 “I want to try that!”? If this is you\, you may be interested in our i
 nstructional series\, The Rookie League!
 Absolutely no experience is req
 uired. The goal is to prepare you for league play and feel comfortable doi
 ng so. Stone delivery fundamentals\, sweeping techniques\, rules\, strateg
 y and etiquette will be covered in the three-session series. There will al
 so be time to scrimmage among fellow learn-to-curlers.
 This is a learnin
 g&nbsp\;environment\; we encourage those looking at a private or corporate
  event to visit ourGroup Learn to Curl Clinics
 The dates are: Sunday\, M
 arch 15\; 9-12:00pm Sunday\, March 22\; 9-12:00pm Sunday\, March 29\; 9-12
 :00pm
 Cost is $100 for the league
 Pre-registration is required.
LOCATION:743 Western Ave N Saint Paul\, MN 55103
DTSTART:20260315T140000Z
DTEND:20260329T170000Z
DTSTAMP:20251115T075654Z
ORGANIZER;CN=Frogtown Curling Club:MAILTO:do-not-reply@frogtowncurling.org
GEO:44.963643;-93.118987
X-APPLE-STRUCTURED-LOCATION;VALUE=URI;X-ADDRESS=743 Western Ave N Saint Pau
 l\, MN 55103;X-APPLE-RADIUS=72;X-TITLE=Frogtown Curling Club:44.963643;-93
 .118987
END:VEVENT
END:VCALENDAR